BEGIN:VCALENDAR
VERSION:2.0
PRODID:Leipziger Foren Webapp
BEGIN:VTIMEZONE
TZID:UTC
BEGIN:STANDARD
DTSTART:20250726T054329
TZOFFSETFROM:+0000
TZOFFSETTO:+0000
END:STANDARD
END:VTIMEZONE
BEGIN:VEVENT
UID:69e86001ea975
DTSTAMP:20260422T054329Z
SUMMARY:Digitaler Austauschkreis zur aktuellen Energiepreisentwicklung info
 lge des Nahost-Konflikts
DESCRIPTION:Die derzeit angespannte geopolitische Lage im Nahen Osten stell
 t die Energiebranche erneut vor erhebliche Herausforderungen und sorgt fü
 r Unsicherheiten auf den globalen Märkten. Ein Umfeld\, das schnelles und
  sicheres Handeln von Ihnen verlangt. Genau hier setzt unser digitaler Aus
 tauschkreis zur aktuellen Preisentwicklung an: Ein Format\, das bewusst au
 f einen offenen und moderierten Dialog unter Branchenexperten ausgelegt is
 t. In verschiedenen Panels stehen Ihre Praxiserfahrungen und aktuellen Fra
 gestellungen im Fokus.\n\nhttps://www.energieforen.de/veranstaltungen/digi
 taler-austauschkreis-zur-aktuellen-energiepreisentwicklung
LOCATION:Der Austauschkreis findet digital statt.
DTSTART:20260520T070000Z
DTEND:20260520T100000Z
GEO:0.034177784422682;-0.027730265304144
END:VEVENT
END:VCALENDAR