BEGIN:VCALENDAR
VERSION:2.0
PRODID:Leipziger Foren Webapp
BEGIN:VTIMEZONE
TZID:UTC
BEGIN:STANDARD
DTSTART:20250727T061404
TZOFFSETFROM:+0000
TZOFFSETTO:+0000
END:STANDARD
END:VTIMEZONE
BEGIN:VEVENT
UID:69e9b8ac8cf26
DTSTAMP:20260423T061404Z
SUMMARY:User Group \"Intelligente Energieinfrastruktur und Dekarbonisierung
 \" - 33. Arbeitstreffen
DESCRIPTION:Um den Anforderungen intelligenter Netze und zunehmend dezentra
 ler Energieversorgung gerecht zu werden\, ist eine sichere Kommunikation d
 er Daten zwischen den beteiligten Akteuren und Geräten unerlässlich.\n\n
 https://www.energieforen.de/veranstaltungen/intelligente-energieinfrastruk
 tur-und-dekarbonisierung-2
LOCATION:Energieforen Leipzig GmbH (Konferenzetage) | Hainstraße 16 | 0410
 9 Leipzig
DTSTART:20260915T073000Z
DTEND:20260916T110000Z
GEO:51.3397239;12.370747
END:VEVENT
END:VCALENDAR