BEGIN:VCALENDAR
VERSION:2.0
PRODID:Leipziger Foren Webapp
BEGIN:VTIMEZONE
TZID:UTC
BEGIN:STANDARD
DTSTART:20250725T055703
TZOFFSETFROM:+0000
TZOFFSETTO:+0000
END:STANDARD
END:VTIMEZONE
BEGIN:VEVENT
UID:69e711af3459c
DTSTAMP:20260421T055703Z
SUMMARY:User Group \"People\, Organisation & Transformation\" - 2. Arbeitst
 reffen
DESCRIPTION:Wie sieht eine Organisation aus\, die flexibel auf ihr Umfeld r
 eagiert\, in der Menschen performen und gleichzeitig ihr eigenes Potenzial
  entfalten können?\n\nhttps://www.energieforen.de/veranstaltungen/people-
 organisation-transformation-1
LOCATION:Energieforen Leipzig GmbH | Konferenzetage | Hainstraße 16 | 0410
 9 Leipzig
DTSTART:20261210T090000Z
DTEND:20261211T130000Z
GEO:51.342397;12.3734439
END:VEVENT
END:VCALENDAR