BEGIN:VCALENDAR
VERSION:2.0
PRODID:Leipziger Foren Webapp
BEGIN:VTIMEZONE
TZID:UTC
BEGIN:STANDARD
DTSTART:20250727T061702
TZOFFSETFROM:+0000
TZOFFSETTO:+0000
END:STANDARD
END:VTIMEZONE
BEGIN:VEVENT
UID:69e9b95e685c0
DTSTAMP:20260423T061702Z
SUMMARY:Web-Seminar \"Portfoliobewirtschaftung der Zukunft - Prozesse und A
 rchitekturen im Energiehandel\"
DESCRIPTION:Die professionelle Bewirtschaftung des Energieportfolios wird z
 u einem der entscheidendsten Erfolgsfaktoren von Stadtwerken. Nur mit eine
 r fundierten Marktkenntnis\, effizienten Prozessen\, automatisierten Tools
  und dem Zugang zu den relevanten Handelsplätzen werden Energieversorger 
 ihre Portfolios langfristig ergebnisorientiert steuern können.\n\nhttps:/
 /www.energieforen.de/veranstaltungen/portfoliobewirtschaftung-der-zukunft
LOCATION:Die Veranstaltung findet digital statt.
DTSTART:20261016T073000Z
DTEND:20261016T083000Z
END:VEVENT
END:VCALENDAR