BEGIN:VCALENDAR
VERSION:2.0
PRODID:Leipziger Foren Webapp
BEGIN:VTIMEZONE
TZID:UTC
BEGIN:STANDARD
DTSTART:20250726T134817
TZOFFSETFROM:+0000
TZOFFSETTO:+0000
END:STANDARD
END:VTIMEZONE
BEGIN:VEVENT
UID:69e8d1a1aef53
DTSTAMP:20260422T134817Z
SUMMARY:User Group \"Corporate Communication\" - 1. Arbeitstreffen
DESCRIPTION:Die Kommunikationslandschaft der Energiewirtschaft befindet sic
 h im ständigen Wandel. Zwischen Regulatorik\, immer komplexeren Produkten
 \, öffentlicher Skepsis und neuen\, digitalen Technologien obliegt es den
  Kommunikator*innen\, sowohl intern als auch extern Vertrauen aufzubauen. 
 Vertrauen in die eigene Marke und Verständnis für Vorgehensweisen\, die 
 sich auf den Alltag vieler auswirken\, die Fragen aufwerfen und deren Akze
 ptanz maßgeblich für eine erfolgreiche und klimagerechte Zukunft ist.\n\
 nhttps://www.energieforen.de/veranstaltungen/user-group-corporate-communic
 ation-0
LOCATION:Herrenhaus Möckern | Bucksdorffstraße 43 | 04159 Leipzig
DTSTART:20261125T100000Z
DTEND:20261126T123000Z
GEO:51.36884475035;12.3336351
END:VEVENT
END:VCALENDAR